BEGIN:VCALENDAR
PRODID:-//eluceo/ical//2.0/EN
VERSION:2.0
CALSCALE:GREGORIAN
BEGIN:VEVENT
UID:0c0b2e91e744b7771b3bf331a691811b
DTSTAMP:20260423T143057Z
SUMMARY:TS Shabbat Service
DESCRIPTION:Jewish Federation of Greater Naples\nCommunity Calendar\nhttps:
 //jewishnaples.org/calendar/ts-shabbat-service-1590162841\n\nShabbat Servi
 ce
DTSTART;TZID=America/New_York:20210115T193000
DTEND;TZID=America/New_York:20210115T213000
END:VEVENT
END:VCALENDAR
