BEGIN:VCALENDAR
PRODID:-//eluceo/ical//2.0/EN
VERSION:2.0
CALSCALE:GREGORIAN
BEGIN:VEVENT
UID:926138e4bb65c9e1b0024fa154fe7bf5
DTSTAMP:20260420T060303Z
SUMMARY:TS Shabbat Service
DESCRIPTION:Jewish Federation of Greater Naples\nCommunity Calendar\nhttps:
 //jewishnaples.org/calendar/ts-shabbat-service-1558361164\n\nDuring the mo
 nths of June and July 2019 Temple Shalom will be having a "Pre-neg" at 5:3
 0pm and Shabbat service will be at 6:00pm. For more information please cal
 l the Temple office at 239-455-3030 or visit the Temple website at www.nap
 lestemple.org.
DTSTART;TZID=America/New_York:20190607T180000
DTEND;TZID=America/New_York:20190607T193000
END:VEVENT
END:VCALENDAR
