BEGIN:VCALENDAR
PRODID:-//eluceo/ical//2.0/EN
VERSION:2.0
CALSCALE:GREGORIAN
BEGIN:VEVENT
UID:ad5b0f316955fa03386d309cda34b515
DTSTAMP:20260422T025237Z
SUMMARY:TS Shabbat on the beach & pot luck dinner
DESCRIPTION:Jewish Federation of Greater Naples\nCommunity Calendar\nhttps:
 //jewishnaples.org/calendar/ts-shabbat-on-the-beach--pot-luck-dinner-14956
 53944\n\nPot luck 6PM in the Gazebo\nShabbat service 7PM on the beach\n\nP
 lease make sure the pot luck food items are Kosher for Passover. \n\nThan
 k you!
DTSTART;TZID=America/New_York:20180406T180000
DTEND;TZID=America/New_York:20180406T200000
END:VEVENT
END:VCALENDAR
