BEGIN:VCALENDAR
PRODID:-//eluceo/ical//2.0/EN
VERSION:2.0
CALSCALE:GREGORIAN
BEGIN:VEVENT
UID:093f0ca59f807ac7a595db0def37416b
DTSTAMP:20260422T100806Z
SUMMARY:TS Shabbat Morning Service
DESCRIPTION:Jewish Federation of Greater Naples\nCommunity Calendar\nhttps:
 //jewishnaples.org/calendar/ts-shabbat-morning-service-1589992522\n\nShabb
 at Morning Service\n4630 Pine Ridge Road\, Naples\, FL 34119
DTSTART;TZID=America/New_York:20200704T100000
DTEND;TZID=America/New_York:20200704T120000
END:VEVENT
END:VCALENDAR
