BEGIN:VCALENDAR
PRODID:-//eluceo/ical//2.0/EN
VERSION:2.0
CALSCALE:GREGORIAN
BEGIN:VEVENT
UID:a4a120f1791a997c3f9d995a6eb84337
DTSTAMP:20260420T164421Z
SUMMARY:TS Shabbat morning and Yizkor service
DESCRIPTION:Jewish Federation of Greater Naples\nCommunity Calendar\nhttps:
 //jewishnaples.org/calendar/ts-shabbat-morning-and-yizkor-service-14956540
 18\n\nShabbat morning & Yizkor service
DTSTART;TZID=America/New_York:20180407T100000
DTEND;TZID=America/New_York:20180407T120000
END:VEVENT
END:VCALENDAR
