BEGIN:VCALENDAR
PRODID:-//eluceo/ical//2.0/EN
VERSION:2.0
CALSCALE:GREGORIAN
BEGIN:VEVENT
UID:f6fdcd872c7ea03c364be63d871a7aeb
DTSTAMP:20260423T071418Z
SUMMARY:TS Shabbat evening service with Scholar in Residence
DESCRIPTION:Jewish Federation of Greater Naples\nCommunity Calendar\nhttps:
 //jewishnaples.org/calendar/ts-shabbat-evening-service-with-scholar-in-res
 idence-1509988188\n\nShabbat evening service featuring this year's Scholar
  in Residence\, Richard Elliott Friedman\, author of The Exodus.
DTSTART;TZID=America/New_York:20180126T193000
DTEND;TZID=America/New_York:20180126T235959
END:VEVENT
END:VCALENDAR
