BEGIN:VCALENDAR
PRODID:-//eluceo/ical//2.0/EN
VERSION:2.0
CALSCALE:GREGORIAN
BEGIN:VEVENT
UID:b11f6a04a3c58e3a35c238252b722c6f
DTSTAMP:20260422T114511Z
SUMMARY:TS Shabbat evening service
DESCRIPTION:Jewish Federation of Greater Naples\nCommunity Calendar\nhttps:
 //jewishnaples.org/calendar/ts-shabbat-evening-service-1527794240\n\nSumme
 r Shabbat service. Join us before the service at 5:30pm for a wine & chees
 e "pre-neg."
DTSTART;TZID=America/New_York:20180713T180000
DTEND;TZID=America/New_York:20180713T190000
END:VEVENT
END:VCALENDAR
