BEGIN:VCALENDAR
PRODID:-//eluceo/ical//2.0/EN
VERSION:2.0
CALSCALE:GREGORIAN
BEGIN:VEVENT
UID:6006153a6c1b3ba3b3f3163a6e592e41
DTSTAMP:20260419T222255Z
SUMMARY:TS Sephardic Series
DESCRIPTION:Jewish Federation of Greater Naples\nCommunity Calendar\nhttps:
 //jewishnaples.org/calendar/ts-sephardic-series-1711737413\n\nCantor Donna
  Azu presents a series of programs on Sephardic Jews. Please visit the Tem
 ple Shalom website for more information.
DTSTART;TZID=America/New_York:20250330T160000
DTEND;TZID=America/New_York:20250330T180000
END:VEVENT
END:VCALENDAR
