BEGIN:VCALENDAR
PRODID:-//eluceo/ical//2.0/EN
VERSION:2.0
CALSCALE:GREGORIAN
BEGIN:VEVENT
UID:2c4c2997a495e28053934c61d964b33a
DTSTAMP:20260424T001719Z
SUMMARY:TS Senior For'em
DESCRIPTION:Jewish Federation of Greater Naples\nCommunity Calendar\nhttps:
 //jewishnaples.org/calendar/ts-senior-forem\n\nTemple Shalom Senior For'em
 \n\n1st Thursday at 11:00 am
DTSTART;TZID=America/New_York:20160901T110000
DTEND;TZID=America/New_York:20160901T110000
END:VEVENT
END:VCALENDAR
