BEGIN:VCALENDAR
PRODID:-//eluceo/ical//2.0/EN
VERSION:2.0
CALSCALE:GREGORIAN
BEGIN:VEVENT
UID:e6724b6d62536909181dc5dc978d2c48
DTSTAMP:20260423T232318Z
SUMMARY:TS Selichot Service
DESCRIPTION:Jewish Federation of Greater Naples\nCommunity Calendar\nhttps:
 //jewishnaples.org/calendar/ts-selichot-service-1652467973\n\nA service of
  reflection and prayer to prepare oneself for the magnitude of the Days of
  Awe.Please check the calendar on our website for updates and schedule cha
 nges.
DTSTART;TZID=America/New_York:20220917T193000
DTEND;TZID=America/New_York:20220917T204500
END:VEVENT
END:VCALENDAR
