BEGIN:VCALENDAR
PRODID:-//eluceo/ical//2.0/EN
VERSION:2.0
CALSCALE:GREGORIAN
BEGIN:VEVENT
UID:1e4b1b079173baf1f44feac22779389c
DTSTAMP:20260423T020219Z
SUMMARY:TS Second Night Seder
DESCRIPTION:Jewish Federation of Greater Naples\nCommunity Calendar\nhttps:
 //jewishnaples.org/calendar/ts-second-night-seder-1587486197\n\nTemple Sha
 lom Second Night Seder
DTSTART;TZID=America/New_York:20210328T180000
DTEND;TZID=America/New_York:20210328T210000
END:VEVENT
END:VCALENDAR
