BEGIN:VCALENDAR
PRODID:-//eluceo/ical//2.0/EN
VERSION:2.0
CALSCALE:GREGORIAN
BEGIN:VEVENT
UID:38d72922f573ee1d6a5a49097d68acf9
DTSTAMP:20260422T020733Z
SUMMARY:TS Scholar-in-Residence Concert
DESCRIPTION:Jewish Federation of Greater Naples\nCommunity Calendar\nhttps:
 //jewishnaples.org/calendar/ts-scholar-in-residence-concert-1695222938\n\n
 TS Scholar-in-Residence Concert. Visit the Temple Shalom website for more 
 information.
DTSTART;TZID=America/New_York:20240106T190000
DTEND;TZID=America/New_York:20240106T193000
END:VEVENT
END:VCALENDAR
