BEGIN:VCALENDAR
PRODID:-//eluceo/ical//2.0/EN
VERSION:2.0
CALSCALE:GREGORIAN
BEGIN:VEVENT
UID:f5b50bd21d52c35da02884d24165406e
DTSTAMP:20260422T105001Z
SUMMARY:TS Scholar-in-Residence
DESCRIPTION:Jewish Federation of Greater Naples\nCommunity Calendar\nhttps:
 //jewishnaples.org/calendar/ts-scholar-in-residence-1695222875\n\nTemple S
 halom Scholar-in-Residence program. Visit the Temple Shalom website for mo
 re information.
DTSTART;TZID=America/New_York:20240105T193000
DTEND;TZID=America/New_York:20240105T210000
END:VEVENT
END:VCALENDAR
