BEGIN:VCALENDAR
PRODID:-//eluceo/ical//2.0/EN
VERSION:2.0
CALSCALE:GREGORIAN
BEGIN:VEVENT
UID:283542b28506583eea7cc38a3334e4d9
DTSTAMP:20260421T183447Z
SUMMARY:TS Scholar in Residence
DESCRIPTION:Jewish Federation of Greater Naples\nCommunity Calendar\nhttps:
 //jewishnaples.org/calendar/ts-scholar-in-residence-1525970247\n\nScholar 
 in Residence Edwin Black
DTSTART;TZID=America/New_York:20190127T100000
DTEND;TZID=America/New_York:20190127T120000
END:VEVENT
END:VCALENDAR
