BEGIN:VCALENDAR
PRODID:-//eluceo/ical//2.0/EN
VERSION:2.0
CALSCALE:GREGORIAN
BEGIN:VEVENT
UID:badadb396e4e83392b9ce758f0ae41db
DTSTAMP:20260424T060839Z
SUMMARY:TS Scholar in Residence
DESCRIPTION:Jewish Federation of Greater Naples\nCommunity Calendar\nhttps:
 //jewishnaples.org/calendar/ts-scholar-in-residence-1525970174\n\nScholar 
 in Residence Edwin Black. This event will take place off-site. Pleace TBD
DTSTART;TZID=America/New_York:20190126T193000
DTEND;TZID=America/New_York:20190126T210000
END:VEVENT
END:VCALENDAR
