BEGIN:VCALENDAR
PRODID:-//eluceo/ical//2.0/EN
VERSION:2.0
CALSCALE:GREGORIAN
BEGIN:VEVENT
UID:f3eb634857342c6dc7dcdef03ba10937
DTSTAMP:20260420T035311Z
SUMMARY:TS Scholar in Residence
DESCRIPTION:Jewish Federation of Greater Naples\nCommunity Calendar\nhttps:
 //jewishnaples.org/calendar/ts-scholar-in-residence-1509988341\n\nScholar 
 in Residence\, Richard Elliott Friedman\, author of The Exodus.
DTSTART;TZID=America/New_York:20180127T193000
DTEND;TZID=America/New_York:20180127T235959
END:VEVENT
END:VCALENDAR
