BEGIN:VCALENDAR
PRODID:-//eluceo/ical//2.0/EN
VERSION:2.0
CALSCALE:GREGORIAN
BEGIN:VEVENT
UID:134a3fe06a93c9ab6e6172e512e23ebb
DTSTAMP:20260423T180534Z
SUMMARY:TS Rosh Hashanah & Tashlich
DESCRIPTION:Jewish Federation of Greater Naples\nCommunity Calendar\nhttps:
 //jewishnaples.org/calendar/ts-rosh-hashanah-tashlich\n\n3:00 Rosh Hashana
 h Family Service\n\n4:00 Tashlich
DTSTART;TZID=America/New_York:20161003T150000
DTEND;TZID=America/New_York:20161003T150000
END:VEVENT
END:VCALENDAR
