BEGIN:VCALENDAR
PRODID:-//eluceo/ical//2.0/EN
VERSION:2.0
CALSCALE:GREGORIAN
BEGIN:VEVENT
UID:db023c722abaddbfbf83c69c8dc63a54
DTSTAMP:20260423T110849Z
SUMMARY:TS Rosh HaShanah Day 2 Morning Service
DESCRIPTION:Jewish Federation of Greater Naples\nCommunity Calendar\nhttps:
 //jewishnaples.org/calendar/ts-rosh-hashanah-day-2-morning-service-1557772
 227\n\nTemple Shalom Rosh HaShanah Day 2 Morning Service
DTSTART;TZID=America/New_York:20191001T100000
DTEND;TZID=America/New_York:20191001T120000
END:VEVENT
END:VCALENDAR
