BEGIN:VCALENDAR
PRODID:-//eluceo/ical//2.0/EN
VERSION:2.0
CALSCALE:GREGORIAN
BEGIN:VEVENT
UID:f6da056d680bfd8127059e45d8b09119
DTSTAMP:20260422T082831Z
SUMMARY:TS RH Day 2 Service
DESCRIPTION:Jewish Federation of Greater Naples\nCommunity Calendar\nhttps:
 //jewishnaples.org/calendar/ts-rh-day-2-service-1589993213\n\nRH Day 2 Ser
 vice\n4630 Pine Ridge Road\, Naples\, FL 34119
DTSTART;TZID=America/New_York:20200920T100000
DTEND;TZID=America/New_York:20200920T120000
END:VEVENT
END:VCALENDAR
