BEGIN:VCALENDAR
PRODID:-//eluceo/ical//2.0/EN
VERSION:2.0
CALSCALE:GREGORIAN
BEGIN:VEVENT
UID:91206a5f951726467ff551cf4e3ded4b
DTSTAMP:20260423T105620Z
SUMMARY:TS Religious School on Sundays
DESCRIPTION:Jewish Federation of Greater Naples\nCommunity Calendar\nhttps:
 //jewishnaples.org/calendar/ts-religious-school-on-sundays\n\nReligious Sc
 hool on Sundays.\n\nPlease check with Temple Shalom's calendar for specifi
 c dates and times.
DTSTART;TZID=America/New_York:20170827T090000
DTEND;TZID=America/New_York:20170827T113000
END:VEVENT
END:VCALENDAR
