BEGIN:VCALENDAR
PRODID:-//eluceo/ical//2.0/EN
VERSION:2.0
CALSCALE:GREGORIAN
BEGIN:VEVENT
UID:1b75ab971a1dd8c92afe53ddb5dab066
DTSTAMP:20260423T101656Z
SUMMARY:TS Religious School
DESCRIPTION:Jewish Federation of Greater Naples\nCommunity Calendar\nhttps:
 //jewishnaples.org/calendar/ts-religious-school-1590162318\n\nReligious Sc
 hool
DTSTART;TZID=America/New_York:20210124T090000
DTEND;TZID=America/New_York:20210124T113000
END:VEVENT
END:VCALENDAR
