BEGIN:VCALENDAR
PRODID:-//eluceo/ical//2.0/EN
VERSION:2.0
CALSCALE:GREGORIAN
BEGIN:VEVENT
UID:9361a939f920de9409dddb95be660611
DTSTAMP:20260423T205658Z
SUMMARY:TS Religious School
DESCRIPTION:Jewish Federation of Greater Naples\nCommunity Calendar\nhttps:
 //jewishnaples.org/calendar/ts-religious-school-1590155423\n\nReligious Sc
 hool
DTSTART;TZID=America/New_York:20201206T090000
DTEND;TZID=America/New_York:20201206T113000
END:VEVENT
END:VCALENDAR
