BEGIN:VCALENDAR
PRODID:-//eluceo/ical//2.0/EN
VERSION:2.0
CALSCALE:GREGORIAN
BEGIN:VEVENT
UID:2a143be6e9eee54017e46490aef9d693
DTSTAMP:20260421T002409Z
SUMMARY:TS Religious School
DESCRIPTION:Jewish Federation of Greater Naples\nCommunity Calendar\nhttps:
 //jewishnaples.org/calendar/ts-religious-school-1590072727\n\nReligious Sc
 hool\n4630 Pine Ridge Road\, Naples\, FL 34119
DTSTART;TZID=America/New_York:20201018T090000
DTEND;TZID=America/New_York:20201018T113000
END:VEVENT
END:VCALENDAR
