BEGIN:VCALENDAR
PRODID:-//eluceo/ical//2.0/EN
VERSION:2.0
CALSCALE:GREGORIAN
BEGIN:VEVENT
UID:cea7700e38896c2b57b23e04073f7b4d
DTSTAMP:20260423T123343Z
SUMMARY:TS Religious School
DESCRIPTION:Jewish Federation of Greater Naples\nCommunity Calendar\nhttps:
 //jewishnaples.org/calendar/ts-religious-school-1589994586\n\nReligious Sc
 hool\n4630 Pine Ridge Road\, Naples\, FL 34119
DTSTART;TZID=America/New_York:20201004T090000
DTEND;TZID=America/New_York:20201004T113000
END:VEVENT
END:VCALENDAR
