BEGIN:VCALENDAR
PRODID:-//eluceo/ical//2.0/EN
VERSION:2.0
CALSCALE:GREGORIAN
BEGIN:VEVENT
UID:e6cfdbf082a5a32390b394b14ef0d859
DTSTAMP:20260422T044228Z
SUMMARY:TS Religious School
DESCRIPTION:Jewish Federation of Greater Naples\nCommunity Calendar\nhttps:
 //jewishnaples.org/calendar/ts-religious-school-1589993575\n\nReligious Sc
 hool\n4630 Pine Ridge Road\, Naples\, FL 34119
DTSTART;TZID=America/New_York:20200830T090000
DTEND;TZID=America/New_York:20200830T113000
END:VEVENT
END:VCALENDAR
