BEGIN:VCALENDAR
PRODID:-//eluceo/ical//2.0/EN
VERSION:2.0
CALSCALE:GREGORIAN
BEGIN:VEVENT
UID:f44dd1ec3a91831784bd7b67689aa1b1
DTSTAMP:20260422T210422Z
SUMMARY:TS Purim Shpiel
DESCRIPTION:Jewish Federation of Greater Naples\nCommunity Calendar\nhttps:
 //jewishnaples.org/calendar/ts-purim-shpiel\n\nTemple Shalom
DTSTART;TZID=America/New_York:20170312T100000
DTEND;TZID=America/New_York:20170312T100000
END:VEVENT
END:VCALENDAR
