BEGIN:VCALENDAR
PRODID:-//eluceo/ical//2.0/EN
VERSION:2.0
CALSCALE:GREGORIAN
BEGIN:VEVENT
UID:985abfbe9b36afa826c1ee065c463b25
DTSTAMP:20260422T115223Z
SUMMARY:TS Purim Palooza
DESCRIPTION:Jewish Federation of Greater Naples\nCommunity Calendar\nhttps:
 //jewishnaples.org/calendar/ts-purim-palooza-1616679881\n\nTemple Shalom P
 urim Palooza
DTSTART;TZID=America/New_York:20220320T090000
DTEND;TZID=America/New_York:20220320T130000
END:VEVENT
END:VCALENDAR
