BEGIN:VCALENDAR
PRODID:-//eluceo/ical//2.0/EN
VERSION:2.0
CALSCALE:GREGORIAN
BEGIN:VEVENT
UID:c6fc6cb1590af42a3bd81bbbd2b64ac2
DTSTAMP:20260420T210651Z
SUMMARY:TS Purim Carnival
DESCRIPTION:Jewish Federation of Greater Naples\nCommunity Calendar\nhttps:
 //jewishnaples.org/calendar/ts-purim-carnival-1560870801\n\nTemple Shalom 
 Purim Carnival
DTSTART;TZID=America/New_York:20200301T113000
DTEND;TZID=America/New_York:20200301T133000
END:VEVENT
END:VCALENDAR
