BEGIN:VCALENDAR
PRODID:-//eluceo/ical//2.0/EN
VERSION:2.0
CALSCALE:GREGORIAN
BEGIN:VEVENT
UID:0f7f171c797964b62359edade3a37193
DTSTAMP:20260422T135457Z
SUMMARY:TS Preschool Camp Begins
DESCRIPTION:Jewish Federation of Greater Naples\nCommunity Calendar\nhttps:
 //jewishnaples.org/calendar/ts-preschool-camp-begins\n\nTemple Shalom
DTSTART;TZID=America/New_York:20170605T090000
DTEND;TZID=America/New_York:20170605T090000
END:VEVENT
END:VCALENDAR
