BEGIN:VCALENDAR
PRODID:-//eluceo/ical//2.0/EN
VERSION:2.0
CALSCALE:GREGORIAN
BEGIN:VEVENT
UID:3805b2adc8a41a2271e25c48f2cbb21a
DTSTAMP:20260422T211542Z
SUMMARY:TS Pre-neg
DESCRIPTION:Jewish Federation of Greater Naples\nCommunity Calendar\nhttps:
 //jewishnaples.org/calendar/ts-pre-neg-1558360991\n\nFor the months of Jun
 e and July 2019 Temple Shalom will have a "Pre-neg" at 5:30pm and Shabbat 
 Service at 6:00pm. For more information please call the Temple office at 2
 39-455-3030 or visit the Temple website www.naplestemple.org.
DTSTART;TZID=America/New_York:20190607T173000
DTEND;TZID=America/New_York:20190607T180000
END:VEVENT
END:VCALENDAR
