BEGIN:VCALENDAR
PRODID:-//eluceo/ical//2.0/EN
VERSION:2.0
CALSCALE:GREGORIAN
BEGIN:VEVENT
UID:0c523769aed5887941a2b62a96e43467
DTSTAMP:20260423T183215Z
SUMMARY:TS Passover Service
DESCRIPTION:Jewish Federation of Greater Naples\nCommunity Calendar\nhttps:
 //jewishnaples.org/calendar/ts-passover-service-1557852052\n\nTemple Shalo
 m Passover Service
DTSTART;TZID=America/New_York:20200409T100000
DTEND;TZID=America/New_York:20200409T120000
END:VEVENT
END:VCALENDAR
