BEGIN:VCALENDAR
PRODID:-//eluceo/ical//2.0/EN
VERSION:2.0
CALSCALE:GREGORIAN
BEGIN:VEVENT
UID:5d2efa6734f95ed7a16575f39a0ce4aa
DTSTAMP:20260422T064836Z
SUMMARY:TS One Book Shabbat Service
DESCRIPTION:Jewish Federation of Greater Naples\nCommunity Calendar\nhttps:
 //jewishnaples.org/calendar/ts-one-book-shabbat-service-1590073412\n\nOne 
 Book Shabbat Service
DTSTART;TZID=America/New_York:20201204T193000
DTEND;TZID=America/New_York:20201204T213000
END:VEVENT
END:VCALENDAR
