BEGIN:VCALENDAR
PRODID:-//eluceo/ical//2.0/EN
VERSION:2.0
CALSCALE:GREGORIAN
BEGIN:VEVENT
UID:7b0b098d0a976c48090dae5c059ec66d
DTSTAMP:20260422T082850Z
SUMMARY:TS Office Closes at 12pm
DESCRIPTION:Jewish Federation of Greater Naples\nCommunity Calendar\nhttps:
 //jewishnaples.org/calendar/ts-office-closes-at-12pm-1557843400\n\nTemple 
 Shalom Office Closes at 12:00pm
DTSTART;TZID=America/New_York:20191225T090000
DTEND;TZID=America/New_York:20191225T235959
END:VEVENT
END:VCALENDAR
