BEGIN:VCALENDAR
PRODID:-//eluceo/ical//2.0/EN
VERSION:2.0
CALSCALE:GREGORIAN
BEGIN:VEVENT
UID:e2a441022b5878c3ba10f6de8393ffda
DTSTAMP:20260423T085217Z
SUMMARY:TS Office Closes at 12:00pm
DESCRIPTION:Jewish Federation of Greater Naples\nCommunity Calendar\nhttps:
 //jewishnaples.org/calendar/ts-office-closes-at-1200pm-1557773830\n\nTS Of
 fice closes at 12:00pm
DTSTART;TZID=America/New_York:20191008T120000
DTEND;TZID=America/New_York:20191008T235959
END:VEVENT
END:VCALENDAR
