BEGIN:VCALENDAR
PRODID:-//eluceo/ical//2.0/EN
VERSION:2.0
CALSCALE:GREGORIAN
BEGIN:VEVENT
UID:a21d19b7072c84bed3e0b7b4a52f80f8
DTSTAMP:20260424T002453Z
SUMMARY:TS Mitzvah Day
DESCRIPTION:Jewish Federation of Greater Naples\nCommunity Calendar\nhttps:
 //jewishnaples.org/calendar/ts-mitzvah-day-1751375495\n\nTemple Shalom's A
 nnual Mitzvah Day
DTSTART;TZID=America/New_York:20260125T083000
DTEND;TZID=America/New_York:20260125T120000
END:VEVENT
END:VCALENDAR
