BEGIN:VCALENDAR
PRODID:-//eluceo/ical//2.0/EN
VERSION:2.0
CALSCALE:GREGORIAN
BEGIN:VEVENT
UID:5d067e58d7952e32df971c8e287d4b65
DTSTAMP:20260423T094241Z
SUMMARY:TS Mitzvah Day
DESCRIPTION:Jewish Federation of Greater Naples\nCommunity Calendar\nhttps:
 //jewishnaples.org/calendar/ts-mitzvah-day-1711044294\n\nTemple Shalom's a
 nnual Mitzvah Day.\n\nFor more information\, visit HERE\n\n 
DTSTART;TZID=America/New_York:20250126T090000
DTEND;TZID=America/New_York:20250126T120000
END:VEVENT
END:VCALENDAR
