BEGIN:VCALENDAR
PRODID:-//eluceo/ical//2.0/EN
VERSION:2.0
CALSCALE:GREGORIAN
BEGIN:VEVENT
UID:48b55656c6afef0d7ae1e45130d3b084
DTSTAMP:20260423T224547Z
SUMMARY:TS Mitzvah Day
DESCRIPTION:Jewish Federation of Greater Naples\nCommunity Calendar\nhttps:
 //jewishnaples.org/calendar/ts-mitzvah-day-1694788380\n\nTS Mitzvah Day
DTSTART;TZID=America/New_York:20240121T090000
DTEND;TZID=America/New_York:20240121T120000
END:VEVENT
END:VCALENDAR
