BEGIN:VCALENDAR
PRODID:-//eluceo/ical//2.0/EN
VERSION:2.0
CALSCALE:GREGORIAN
BEGIN:VEVENT
UID:e44094847e9fe298e326269e621de1a8
DTSTAMP:20260423T024546Z
SUMMARY:TS Mitzvah Day
DESCRIPTION:Jewish Federation of Greater Naples\nCommunity Calendar\nhttps:
 //jewishnaples.org/calendar/ts-mitzvah-day-1641407922\n\nMitzvah Day is on
 e of the most rewarding and engaging days on the Temple Shalom calendar. O
 n this wonderful day\, the entire Temple Shalom community comes together t
 o work to repair our world and make it a better place through service proj
 ects. Below are descriptions of some of the projects we work on for Mitzva
 h Day. Our whole One Family community is encouraged to participate in thes
 e projects. Projects take place at Temple Shalom.
DTSTART;TZID=America/New_York:20220424T090000
DTEND;TZID=America/New_York:20220424T130000
END:VEVENT
END:VCALENDAR
