BEGIN:VCALENDAR
PRODID:-//eluceo/ical//2.0/EN
VERSION:2.0
CALSCALE:GREGORIAN
BEGIN:VEVENT
UID:03b5e3e86451e9ee9dee876937878041
DTSTAMP:20260420T162339Z
SUMMARY:TS Mitzvah Day
DESCRIPTION:Jewish Federation of Greater Naples\nCommunity Calendar\nhttps:
 //jewishnaples.org/calendar/ts-mitzvah-day\n\nTemple Shalom
DTSTART;TZID=America/New_York:20170226T090000
DTEND;TZID=America/New_York:20170226T090000
END:VEVENT
END:VCALENDAR
