BEGIN:VCALENDAR
PRODID:-//eluceo/ical//2.0/EN
VERSION:2.0
CALSCALE:GREGORIAN
BEGIN:VEVENT
UID:3c49e4ae2dc6935d1607a1362439dcbf
DTSTAMP:20260423T101533Z
SUMMARY:TS Mimouna
DESCRIPTION:Jewish Federation of Greater Naples\nCommunity Calendar\nhttps:
 //jewishnaples.org/calendar/ts-mimouna-1587486402\n\nTemple Shalom Mimouna
DTSTART;TZID=America/New_York:20210405T190000
DTEND;TZID=America/New_York:20210405T210000
END:VEVENT
END:VCALENDAR
