BEGIN:VCALENDAR
PRODID:-//eluceo/ical//2.0/EN
VERSION:2.0
CALSCALE:GREGORIAN
BEGIN:VEVENT
UID:4758bef3a9768ec77540306f24b17f28
DTSTAMP:20260423T194318Z
SUMMARY:TS Men's Club Shabbat Dinner
DESCRIPTION:Jewish Federation of Greater Naples\nCommunity Calendar\nhttps:
 //jewishnaples.org/calendar/ts-mens-club-shabbat-dinner-1711561938\n\nTemp
 le Shalom Men's Club Shabbat Dinner
DTSTART;TZID=America/New_York:20241101T180000
DTEND;TZID=America/New_York:20241101T193000
END:VEVENT
END:VCALENDAR
