BEGIN:VCALENDAR
PRODID:-//eluceo/ical//2.0/EN
VERSION:2.0
CALSCALE:GREGORIAN
BEGIN:VEVENT
UID:8b42fa85ccca1dfbed11caf784521b73
DTSTAMP:20260424T054423Z
SUMMARY:TS Mens Club Shabbat
DESCRIPTION:Jewish Federation of Greater Naples\nCommunity Calendar\nhttps:
 //jewishnaples.org/calendar/ts-mens-club-shabbat-1589995297\n\nMen's Club 
 Shabbat Service\n4630 Pine Ridge Road\, Naples\, FL 34119
DTSTART;TZID=America/New_York:20201030T193000
DTEND;TZID=America/New_York:20201030T213000
END:VEVENT
END:VCALENDAR
