BEGIN:VCALENDAR
PRODID:-//eluceo/ical//2.0/EN
VERSION:2.0
CALSCALE:GREGORIAN
BEGIN:VEVENT
UID:ced047f778c1c8c88371df5ec2baea9e
DTSTAMP:20260423T211705Z
SUMMARY:TS Men's Club Dinner Theatre
DESCRIPTION:Jewish Federation of Greater Naples\nCommunity Calendar\nhttps:
 //jewishnaples.org/calendar/ts-mens-club-dinner-theatre-1529510480\n\nPlea
 se contact Temple Shalom for more details and ticket prices.
DTSTART;TZID=America/New_York:20190223T173000
DTEND;TZID=America/New_York:20190223T200000
END:VEVENT
END:VCALENDAR
