BEGIN:VCALENDAR
PRODID:-//eluceo/ical//2.0/EN
VERSION:2.0
CALSCALE:GREGORIAN
BEGIN:VEVENT
UID:10c5b042daab035ef33bd266f4d21393
DTSTAMP:20260420T205215Z
SUMMARY:TS Men's Club Deli Pick Up
DESCRIPTION:Jewish Federation of Greater Naples\nCommunity Calendar\nhttps:
 //jewishnaples.org/calendar/ts-mens-club-deli-pick-up-1694788515\n\nOrder 
 Deli Meals in advance
DTSTART;TZID=America/New_York:20240128T113000
DTEND;TZID=America/New_York:20240128T140000
END:VEVENT
END:VCALENDAR
