BEGIN:VCALENDAR
PRODID:-//eluceo/ical//2.0/EN
VERSION:2.0
CALSCALE:GREGORIAN
BEGIN:VEVENT
UID:409e3892f6282976e7e049f8433a17c8
DTSTAMP:20260423T165523Z
SUMMARY:TS Melton Year 2
DESCRIPTION:Jewish Federation of Greater Naples\nCommunity Calendar\nhttps:
 //jewishnaples.org/calendar/ts-melton-year-2-1590156969\n\nMelton Year 2
DTSTART;TZID=America/New_York:20201203T100000
DTEND;TZID=America/New_York:20201203T120000
END:VEVENT
END:VCALENDAR
