BEGIN:VCALENDAR
PRODID:-//eluceo/ical//2.0/EN
VERSION:2.0
CALSCALE:GREGORIAN
BEGIN:VEVENT
UID:25fb7176336e0291e2a4e543b1ec3f4f
DTSTAMP:20260423T105428Z
SUMMARY:TS Melton Elective Class
DESCRIPTION:Jewish Federation of Greater Naples\nCommunity Calendar\nhttps:
 //jewishnaples.org/calendar/ts-melton-elective-class-1557843494\n\nTS Melt
 on Elective Class
DTSTART;TZID=America/New_York:20191203T140000
DTEND;TZID=America/New_York:20191203T160000
END:VEVENT
END:VCALENDAR
