BEGIN:VCALENDAR
PRODID:-//eluceo/ical//2.0/EN
VERSION:2.0
CALSCALE:GREGORIAN
BEGIN:VEVENT
UID:ff9840eaa85bbbbbe7dd95dfa36c8114
DTSTAMP:20260422T082518Z
SUMMARY:TS Melton Core class year 2
DESCRIPTION:Jewish Federation of Greater Naples\nCommunity Calendar\nhttps:
 //jewishnaples.org/calendar/ts-melton-core-class-year-2-1509550261\n\n15 w
 eek course Prerequisite Core class year 1 Faculty: Rabbi Adam Miller Dr. A
 nna Salomon Registration required
DTSTART;TZID=America/New_York:20180227T150000
DTEND;TZID=America/New_York:20180227T171500
END:VEVENT
END:VCALENDAR
