BEGIN:VCALENDAR
PRODID:-//eluceo/ical//2.0/EN
VERSION:2.0
CALSCALE:GREGORIAN
BEGIN:VEVENT
UID:6ddcc3368edcb4d39dc08399aa8cd4ed
DTSTAMP:20260423T200105Z
SUMMARY:TS Melton Core class year 2
DESCRIPTION:Jewish Federation of Greater Naples\nCommunity Calendar\nhttps:
 //jewishnaples.org/calendar/ts-melton-core-class-year-2-1509550165\n\n15 w
 eek course Prerequisite Core class year 1 Faculty: Rabbi Adam Miller Dr. A
 nna Salomon Registration required
DTSTART;TZID=America/New_York:20180109T150000
DTEND;TZID=America/New_York:20180109T171500
END:VEVENT
END:VCALENDAR
