BEGIN:VCALENDAR
PRODID:-//eluceo/ical//2.0/EN
VERSION:2.0
CALSCALE:GREGORIAN
BEGIN:VEVENT
UID:b3032b45ac49b686057c47acc69c0511
DTSTAMP:20260422T104030Z
SUMMARY:TS Melton Core class year 1
DESCRIPTION:Jewish Federation of Greater Naples\nCommunity Calendar\nhttps:
 //jewishnaples.org/calendar/ts-melton-core-class-year-1-1509549963\n\n15 w
 eeks  Faculty: Rabbi Adam Miller  Rabbi Ammos Chorny Registration required
DTSTART;TZID=America/New_York:20180227T140000
DTEND;TZID=America/New_York:20180227T160000
END:VEVENT
END:VCALENDAR
