BEGIN:VCALENDAR
PRODID:-//eluceo/ical//2.0/EN
VERSION:2.0
CALSCALE:GREGORIAN
BEGIN:VEVENT
UID:a580c7ffbe6cbfc236ffa2d5e0cc50f1
DTSTAMP:20260420T225833Z
SUMMARY:TS Melton Class Year 1
DESCRIPTION:Jewish Federation of Greater Naples\nCommunity Calendar\nhttps:
 //jewishnaples.org/calendar/ts-melton-class-year-1-1557848459\n\nTS Melton
  Class Year 1 - events.org/meltonnaples
DTSTART;TZID=America/New_York:20200109T100000
DTEND;TZID=America/New_York:20200109T120000
END:VEVENT
END:VCALENDAR
